Workbook
Name Area_of_Concern___Patient_Rights: '[1]Summary and Table of Content'!$C$5

Sheet Department Wise
C1: Customized Checklist for Male District Hospital | G1: Version 03 DMH/02/19
C3: Hospital Quality Score Card Department wise
C4: Accident & Emergency | D4: OPD | E4: Labour Room | F4: Maternity Ward | G4: Indoor Department
C5: ='Emergency '!D726 -> 1 | D5: =OPD!D775 -> 1 | E5: NA | F5: NA | G5: =IPD!D656 -> 1
C6: NRC | D6: Pediaterics Ward | E6: HOSPITAL SCORE | F6: SNCU | G6: ICU
C7: ='NRC '!D696 -> 1 | D7: ='Ped Ward'!D678 -> 1 | F7: NA | G7: NA
C8: Operation Theatre | D8: Post Partum Unit | E8: =('Emergency '!B726+OPD!B775+'NRC '!B696+OT!B711+IPD!B656+'Blood Bank'!B642+Lab!B657+'Radiology '!B616+Pharmacy!B603+'Auxillary services'!B635+Admin!B878)/('Emergency '!C726+OPD!C775+'NRC '!C696+OT!C711+IPD!C656+'Blood Bank'!C642+Lab!C657+'Radiology '!C616+Pharmacy!C603+'Auxillary services'!C635+Admin!C878) -> 1 | F8: Blood Bank | G8: Laboratory
C9: =OT!D711 -> 1 | D9: NA | F9: ='Blood Bank'!D642 -> 1 | G9: =Lab!D657 -> 1
C10: Radiology | D10: Pharmacy | E10: Auxiliary Services | F10: Mortuary | G10: General Administration
C11: ='Radiology '!D616 -> 1 | D11: =Pharmacy!D603 -> 1 | E11: ='Auxillary services'!D635 -> 1 | F11: ='Mortuary '!D576 -> 1 | G11: =Admin!D878 -> 1
C17: =UPPER("Hospital Quality Score CardArea of Concern wise") -> HOSPITAL QUALITY SCORE CARDAREA OF CONCERN WISE
C18: Service Provision | D18: Patient Rights | E18: Inputs | F18: Support Services
C19: =('Emergency '!B718+OPD!B767+'NRC '!B688+OT!B703+IPD!B648+'Blood Bank'!B634+Lab!B649+'Radiology '!B608+Pharmacy!B595+'Auxillary services'!B627+Admin!B870+'Ped Ward'!B670+'Mortuary '!B568)/('Emergency '!C718+OPD!C767+'NRC '!C688+OT!C703+IPD!C648+'Blood Bank'!C634+Lab!C649+'Radiology '!C608+Pharmacy!C595+'Auxillary services'!C627+'Ped Ward'!C670+'Mortuary '!C568+Admin!C870) -> 1 | D19: =('Emergency '!B719+OPD!B768+'NRC '!B689+OT!B704+IPD!B649+'Blood Bank'!B635+Lab!B650+'Radiology '!B609+Pharmacy!B596+'Auxillary services'!B628+Admin!B871+'Ped Ward'!B671+'Mortuary '!B569)/('Emergency '!C719+OPD!C768+'NRC '!C689+OT!C704+IPD!C649+'Blood Bank'!C635+Lab!C650+'Radiology '!C609+Pharmacy!C596+'Auxillary services'!C628+Admin!C871+'Ped Ward'!C671+'Mortuary '!C569) -> 1 | E19: =('Emergency '!B720+OPD!B769+'NRC '!B690+OT!B705+IPD!B650+'Blood Bank'!B636+Lab!B651+'Radiology '!B610+Pharmacy!B597+'Auxillary services'!B629+Admin!B872+'Ped Ward'!B672+'Mortuary '!B570)/('Emergency '!C720+OPD!C769+'NRC '!C690+OT!C705+IPD!C650+'Blood Bank'!C636+Lab!C651+'Radiology '!C610+Pharmacy!C597+'Auxillary services'!C629+Admin!C872+'Mortuary '!C570+'Ped Ward'!C672) -> 1 | F19: =('Emergency '!B721+OPD!B770+'NRC '!B691+OT!B706+IPD!B651+'Blood Bank'!B637+Lab!B652+'Radiology '!B611+Pharmacy!B598+'Auxillary services'!B630+Admin!B873+'Ped Ward'!B673+'Mortuary '!B571)/('Emergency '!C721+OPD!C770+'NRC '!C691+OT!C706+IPD!C651+'Blood Bank'!C637+Lab!C652+'Radiology '!C611+Pharmacy!C598+'Auxillary services'!C630+Admin!C873+'Ped Ward'!C673+'Mortuary '!C571) -> 1
C20: HOSPITAL SCORE
C21: =('Emergency '!B726+OPD!B775+'NRC '!B696+OT!B711+IPD!B656+'Blood Bank'!B642+Lab!B657+'Radiology '!B616+Pharmacy!B603+'Auxillary services'!B635+Admin!B878+'Ped Ward'!B678+'Mortuary '!B576)/('Emergency '!C726+OPD!C775+'NRC '!C696+OT!C711+IPD!C656+'Blood Bank'!C642+Lab!C657+'Radiology '!C616+Pharmacy!C603+'Auxillary services'!C635+Admin!C878+'Mortuary '!C576+'Ped Ward'!C678) -> 1
C22: Clinical Services | D22: Infection Control | E22: Quality Management | F22: Outcome
C23: =('Emergency '!B722+OPD!B771+'NRC '!B692+OT!B707+IPD!B652+'Blood Bank'!B638+Lab!B653+'Radiology '!B612+Pharmacy!B599+'Auxillary services'!B631+Admin!B874+'Ped Ward'!B674+'Mortuary '!B572)/('Emergency '!C722+OPD!C771+'NRC '!C692+OT!C707+IPD!C652+'Blood Bank'!C638+Lab!C653+'Radiology '!C612+Pharmacy!C599+'Auxillary services'!C631+Admin!C874+'Mortuary '!C572+'Ped Ward'!C674) -> 1 | D23: =('Emergency '!B723+OPD!B772+'NRC '!B693+OT!B708+IPD!B653+'Blood Bank'!B639+Lab!B654+'Radiology '!B613+Pharmacy!B600+'Auxillary services'!B632+Admin!B875+'Ped Ward'!B675+'Mortuary '!B573)/('Emergency '!C723+OPD!C772+'NRC '!C693+OT!C708+IPD!C653+'Blood Bank'!C639+Lab!C654+'Radiology '!C613+Pharmacy!C600+'Auxillary services'!C632+Admin!C875+'Ped Ward'!C675+'Mortuary '!C573) -> 1 | E23: =('Emergency '!B724+OPD!B773+'NRC '!B694+OT!B709+IPD!B654+'Blood Bank'!B640+Lab!B655+'Radiology '!B614+Pharmacy!B601+'Auxillary services'!B633+Admin!B876+'Ped Ward'!B676+'Mortuary '!B574)/('Emergency '!C724+OPD!C773+'NRC '!C694+OT!C709++IPD!C654+'Blood Bank'!C640+Lab!C655+'Radiology '!C614+Pharmacy!C601+'Auxillary services'!C633+Admin!C876+'Mortuary '!C574+'Ped Ward'!C676) -> 1 | F23: =('Emergency '!B725+OPD!B774+'NRC '!B695+OT!B710+IPD!B655+'Blood Bank'!B641+Lab!B656+'Radiology '!B615+Pharmacy!B602+'Auxillary services'!B634+Admin!B877+'Ped Ward'!B677+'Mortuary '!B575)/('Emergency '!C725+OPD!C774+'NRC '!C695+OT!C710+IPD!C655+'Blood Bank'!C641+Lab!C656+'Radiology '!C615+Pharmacy!C602+'Auxillary services'!C634+Admin!C877+'Mortuary '!C575+'Ped Ward'!C677) -> 1
B29: Standard A1. | C29: Facility Provides Curative Services | I29: =('Emergency '!H44+OPD!H43+'NRC '!H44+OT!H44+IPD!H44+'Blood Bank'!H44+'Radiology '!H43+Pharmacy!H43+Admin!H43+'Ped Ward'!H44+'Mortuary '!H43)/('Emergency '!I44+OPD!I43+'NRC '!I44+OT!I44+IPD!I44+'Blood Bank'!I44+'Radiology '!I43+Pharmacy!I43+Admin!I43+'Mortuary '!I43+'Ped Ward'!I44) -> 1
B30: Standard A2 | C30: Facility provides RMNCHA Services | I30: =('Emergency '!H64+OPD!H72+'Ped Ward'!H64+'NRC '!H63+OT!H63)/(OT!I63+'NRC '!I63+'Ped Ward'!I64+OPD!I72+'Emergency '!I64) -> 1
B31: Standard A3. | C31: Facility Provides diagnostic Services | I31: =('Emergency '!H70+OPD!H79+'NRC '!H78+OT!H71+'Blood Bank'!H72+Lab!H70+'Radiology '!H69+Admin!H71)/('Emergency '!I70+OPD!I79+'NRC '!I78+OT!I71+'Blood Bank'!I72+Lab!I70+'Radiology '!I69+Admin!I71) -> 1
B32: Standard A4 | C32: Facility provides services as mandated in national Health Programs/ state scheme | I32: =(OPD!H84+OT!H75+IPD!H75+'Blood Bank'!H76+Lab!H82+Pharmacy!H74+Admin!H77+'Ped Ward'!H81)/(OPD!I84+OT!I75+IPD!I75+'Blood Bank'!I76+Lab!I82+Pharmacy!I74+Admin!I77+'Ped Ward'!I81) -> 1
B33: Standard A5. | C33: Facility provides support services | I33: =('Emergency '!H87+'NRC '!H94+Pharmacy!H87+'Auxillary services'!H84+Admin!H92+'Mortuary '!H84)/('Emergency '!I87+'NRC '!I94+Pharmacy!I87+'Auxillary services'!I84+Admin!I92+'Mortuary '!I84) -> 1
B34: Standard A6. | C34: Health services provided at the facility are appropriate to community needs. | I34: =('Emergency '!H95+OPD!H111+IPD!H95+'Blood Bank'!H96+Lab!H103+Admin!H101)/('Emergency '!I95+OPD!I111+IPD!I95+'Blood Bank'!I96+Lab!I103+Admin!I101) -> 1
B35: Standard B1. | C35: Facility provides the information to care seekers, attendants & community about the available services and their modalities | I35: =('Emergency '!H99+OPD!H115+'NRC '!H106+OT!H100+IPD!H99+'Blood Bank'!H100+Lab!H107+'Radiology '!H101+Pharmacy!H102+'Auxillary services'!H97+Admin!H106+'Ped Ward'!H108+'Mortuary '!H100)/('Emergency '!I99+OPD!I115+'NRC '!I106+OT!I100+IPD!I99+'Blood Bank'!I100+Lab!I107+'Radiology '!I101+Pharmacy!I102+'Auxillary services'!I97+Admin!I106+'Mortuary '!I100+'Ped Ward'!I108) -> 1
B36: Standard B2. | C36: Services are delivered in a manner that is sensitive to gender, religious, and cultural needs, and there are no barrier on account of physical economic, cultural or social reasons. | I36: =('Emergency '!H112+OPD!H130+'NRC '!H120+OT!H112+IPD!H113+'Blood Bank'!H112+Lab!H118+'Radiology '!H113+Pharmacy!H114+Admin!H136+'Ped Ward'!H119+'Mortuary '!H110)/('Emergency '!I112+OPD!I130+'NRC '!I120+OT!I112+IPD!I113+'Blood Bank'!I112+Lab!I118+'Radiology '!I113+Pharmacy!I114+Admin!I136+'Mortuary '!I110+'Ped Ward'!I119) -> 1
B37: Standard B3. | C37: Facility maintains the privacy, confidentiality & Dignity of patient and related information. | I37: =('Emergency '!H128+OPD!H143+'NRC '!H126+OT!H119+IPD!H126+'Blood Bank'!H118+Lab!H124+'Radiology '!H119+Pharmacy!H120+'Auxillary services'!H112+Admin!H160+'Ped Ward'!H126+'Mortuary '!H116)/('Emergency '!I128+OPD!I143+'NRC '!I126+OT!I119+IPD!I126+'Blood Bank'!I118+Lab!I124+'Radiology '!I119+Pharmacy!I120+'Auxillary services'!I112+Admin!I160+'Mortuary '!I116+'Ped Ward'!I126) -> 1
B38: Standard B4. | C38: Facility has defined and established procedures for informing and involving patient and their families about treatment and obtaining informed consent wherever it is required. | I38: =('Emergency '!H134+OPD!H150+'NRC '!H131+OT!H126+IPD!H136+'Blood Bank'!H123+Lab!H129+'Radiology '!H125+Pharmacy!H125+'Auxillary services'!H117+Admin!H165+ 'Ped Ward'!H131+'Mortuary '!H121)/('Emergency '!I134+OPD!I150+'NRC '!I131+OT!I126+IPD!I136+'Blood Bank'!I123+Lab!I129+'Radiology '!I125+Pharmacy!I125+'Auxillary services'!I117+Admin!I165+'Mortuary '!I121+'Ped Ward'!I131) -> 1
B39: Standard B5. | C39: Facility ensures that there are no financial barrier to access and that there is financial protection given from cost of care. | I39: =('Emergency '!H140+OPD!H157+'NRC '!H138+OT!H133+IPD!H142+'Blood Bank'!H130+Lab!H135+'Radiology '!H131+Pharmacy!H131+'Auxillary services'!H123+Admin!H179+'Ped Ward'!H137)/('Emergency '!I140+OPD!I157+'NRC '!I138+OT!I133+IPD!I142+'Blood Bank'!I130+Lab!I135+'Radiology '!I131+Pharmacy!I131+'Auxillary services'!I123+Admin!I179+'Ped Ward'!I137) -> 1
B40: Standard B6. | C40: Facility has defined framework for ethical management including dilemmas confronted during delivery of services at public health facilities | I40: =('Emergency '!H147+IPD!H150+'Ped Ward'!H151+'NRC '!H153+Admin!H191)/(Admin!I191+'NRC '!I153+'Ped Ward'!I151+IPD!I150+'Emergency '!I147) -> 1
B41: Standard C1. | C41: The facility has infrastructure for delivery of assured services, and available infrastructure meets the prevalent norms | I41: =('Emergency '!H160+OPD!H177+'NRC '!H166+OT!H133+IPD!H142+'Blood Bank'!H130+Lab!H135+'Radiology '!H131+Pharmacy!H131+'Auxillary services'!H123+Admin!H179+'Ped Ward'!H164+'Mortuary '!H147)/('Emergency '!I160+OPD!I177+'NRC '!I166+OT!I133+IPD!I142+'Blood Bank'!I130+Lab!I135+'Radiology '!I131+Pharmacy!I131+'Auxillary services'!I123+Admin!I179+'Mortuary '!I147+'Ped Ward'!I164) -> 1
B42: Standard C2. | C42: The facility ensures the physical safety of the infrastructure. | I42: =('Emergency '!H191+OPD!H202+'NRC '!H188+OT!H179+IPD!H186+'Blood Bank'!H166+Lab!H172+'Radiology '!H164+Pharmacy!H167+'Auxillary services'!H158+Admin!H233+'Ped Ward'!H186+'Mortuary '!H164)/('Emergency '!I191+OPD!I202+'NRC '!I188+OT!I179+IPD!I186+'Blood Bank'!I166+Lab!I172+'Radiology '!I164+Pharmacy!I167+'Auxillary services'!I158+Admin!I233+'Mortuary '!I164+'Ped Ward'!I186) -> 1
B43: Standard C3. | C43: The facility has established Programme for fire safety and other disaster | I43: =('Emergency '!H197+OPD!H208+'NRC '!H194+OT!H186+IPD!H192+'Blood Bank'!H174+Lab!H180+'Radiology '!H173+Pharmacy!H174+'Auxillary services'!H164+Admin!H256+'Ped Ward'!H192+'Mortuary '!H171)/('Emergency '!I197+OPD!I208+'NRC '!I194+OT!I186+IPD!I192+'Blood Bank'!I174+Lab!I180+'Radiology '!I173+Pharmacy!I174+'Auxillary services'!I164+Admin!I256+'Mortuary '!I171+'Ped Ward'!I192) -> 1
B44: Standard C4. | C44: The facility has adequate qualified and trained staff, required for providing the assured services to the current case load | I44: =('Emergency '!H203+OPD!H214+'NRC '!H200+OT!H192+IPD!H198+'Blood Bank'!H181+Lab!H187+'Radiology '!H179+Pharmacy!H181+'Auxillary services'!H171+Admin!H267+'Ped Ward'!H198+'Mortuary '!H176)/('Emergency '!I203+OPD!I214+'NRC '!I200+OT!I192+IPD!I198+'Blood Bank'!I181+Lab!I187+'Radiology '!I179+Pharmacy!I181+'Auxillary services'!I171+Admin!I267+'Mortuary '!I176+'Ped Ward'!I198) -> 1
B45: Standard C5. | C45: Facility provides drugs and consumables required for assured list of services. | I45: =('Emergency '!H212+OPD!H232+'NRC '!H210+OT!H205+IPD!H205+'Blood Bank'!H188+Lab!H196+'Radiology '!H187+Pharmacy!H187+'Auxillary services'!H181+Admin!H302+'Ped Ward'!H205+'Mortuary '!H183)/('Emergency '!I212+OPD!I232+'NRC '!I210+OT!I205+IPD!I205+'Blood Bank'!I188+Lab!I196+'Radiology '!I187+Pharmacy!I187+'Auxillary services'!I181+Admin!I302+'Mortuary '!I183+'Ped Ward'!I205) -> 1
B46: Standard C6. | C46: The facility has equipment & instruments required for assured list of services. | I46: =('Emergency '!H230+OPD!H238+'NRC '!H221+OT!H221+IPD!H219+'Blood Bank'!H193+Lab!H203+'Radiology '!H192+Pharmacy!H209+'Auxillary services'!H186+Admin!H306+'Ped Ward'!H215+'Mortuary '!H188)/('Emergency '!I230+OPD!I238+'NRC '!I221+OT!I221+IPD!I219+'Blood Bank'!I193+Lab!I203+'Radiology '!I192+Pharmacy!I209+'Auxillary services'!I186+Admin!I306+'Mortuary '!I188+'Ped Ward'!I215) -> 1
B47: Standard C7. | C47: Facility has a defined and established procedure for effective utilization, evaluation and augmentation of competence and performance of staff | I47: =('Emergency '!H246+OPD!H252+IPD!H231+'Ped Ward'!H227+'NRC '!H235+OT!H239+'Blood Bank'!H205+Lab!H220+'Radiology '!H207+Pharmacy!H217+'Auxillary services'!H199+'Mortuary '!H199+Admin!H316)/(Admin!I316+'Mortuary '!I199+'Auxillary services'!I199+Pharmacy!I217+'Radiology '!I207+Lab!I220+'Blood Bank'!I205+OT!I239+'NRC '!I235+'Ped Ward'!I227+IPD!I231+OPD!I252+'Emergency '!I246) -> 1
B48: Standard D1. | C48: The facility has established Programme for inspection, testing and maintenance and calibration of Equipment. | I48: =('Emergency '!H265+OPD!H273+'NRC '!H252+OT!H260+IPD!H246+'Blood Bank'!H220+Lab!H238+'Radiology '!H222+Pharmacy!H234+'Auxillary services'!H215+Admin!H338+'Ped Ward'!H246+'Mortuary '!H214)/('Emergency '!I265+OPD!I273+'NRC '!I252+OT!I260+IPD!I246+'Blood Bank'!I220+Lab!I238+'Radiology '!I222+Pharmacy!I234+'Auxillary services'!I215+Admin!I338+'Mortuary '!I214+'Ped Ward'!I246) -> 1
B49: Standard D2. | C49: The facility has defined procedures for storage, inventory management and dispensing of drugs in pharmacy and patient care areas | I49: =('Emergency '!H271+OPD!H278+'NRC '!H257+OT!H269+IPD!H251+'Blood Bank'!H231+Lab!H250+'Radiology '!H231+Pharmacy!H239+Admin!H349+'Ped Ward'!H251+'Mortuary '!H219)/('Emergency '!I271+OPD!I278+'NRC '!I257+OT!I269+IPD!I251+'Blood Bank'!I231+Lab!I250+'Radiology '!I231+Pharmacy!I239+Admin!I349+'Mortuary '!I219+'Ped Ward'!I251) -> 1
B50: Standard D3. | C50: The facility provides safe, secure and comfortable environment to staff, patients and visitors. | I50: =('Emergency '!H288+OPD!H293+'NRC '!H273+OT!H284+IPD!H265+'Blood Bank'!H246+Lab!H264+'Radiology '!H244+Pharmacy!H279+'Auxillary services'!H229+Admin!H359)/('Emergency '!I288+OPD!I293+'NRC '!I273+OT!I284+IPD!I265+'Blood Bank'!I246+Lab!I264+'Radiology '!I244+Pharmacy!I279+'Auxillary services'!I229+Admin!I359) -> 1
B51: Standard D4. | C51: The facility has established Programme for maintenance and upkeep of the facility | I51: =('Emergency '!H297+OPD!H303+'NRC '!H286+OT!H294+IPD!H275+'Blood Bank'!H253+Lab!H274+'Radiology '!H258+Pharmacy!H286+'Auxillary services'!H241+Admin!H385+'Ped Ward'!H279+'Mortuary '!H236)/('Emergency '!I297+OPD!I303+'NRC '!I286+OT!I294+IPD!I275+'Blood Bank'!I253+Lab!I274+'Radiology '!I258+Pharmacy!I286+'Auxillary services'!I241+Admin!I385+'Mortuary '!I236+'Ped Ward'!I279) -> 1
...

Sheet Emergency 
A1: National Quality Assurance Standards for District Hospitals
A2: Emergency Score Card | G2: NA Switch
A3: Checklist for Accident & Emergency | H3: 1
A4: Assessment Summary
A5: Name of the Hospital | F5: Date of Assessment
A6: Names of Assessors | F6: Names of Assessees
A7: Type of Assessment (Internal/External) | F7: Action plan Submission Date
A8: Accident & Emergency Score Card
A9: Area of Concern wise Score | F9: Accident & Emergency Score
A10: A | B10: Service Provision | C10: ='Emergency '!D718 -> 1 | F10: =D726 -> 1
A11: B | B11: Patient Rights | C11: ='Emergency '!D719 -> 1
A12: C | B12: Inputs | C12: ='Emergency '!D720 -> 1
A13: D | B13: Support Services | C13: ='Emergency '!D721 -> 1
A14: E | B14: Clinical Services | C14: ='Emergency '!D722 -> 1
A15: F | B15: Infection Control | C15: ='Emergency '!D723 -> 1
A16: G | B16: Quality Manangement | C16: ='Emergency '!D724 -> 1
A17: H | B17: Outcome | C17: ='Emergency '!D725 -> 1
B19: Major Gaps Observed
A20: 1
A21: 2
A22: 3
A23: 4
A24: 5
B25: Strengths / Good Practices
A26: 1
A27: 2
A28: 3
A29: 4
A30: 5
B31: Recommendations/ Opportunites for Improvement
A32: 1
A33: 2
A34: 3
A35: 4
A36: 5
B37: Signature of Assessors
B38: Date
A41: Checklist for Accident & Emergency
A42: Reference No. | B42: Measurable Element | C42: Checkpoint | D42: Compliance | E42: Assessment Method | F42: Means of Verification | G42: Remarks
B43: Area of Concern - A Service Provision | H43: =H44+H64+H70+H75+H87+H95 -> 38 | I43: =I44+I64+I70+I75+I87+I95 -> 38
...

Sheet OPD
A1: National Quality Assurance Standards for District Hospitals
A2: Checklist for Outdoor Patient Department | H2: 2
A3: Assessment Summary
A4: Name of the Hospital | F4: Date of Assessment
A5: Names of Assessors | F5: Names of Assessees
A6: Type of Assessment (Internal/External) | F6: Action plan Submission Date
A7: OPD Score Card
B8: Area of Concern wise Score | F8: OPD Score
A9: A | B9: Service Provision | C9: =OPD!D767 -> 1 | F9: =D775 -> 1
A10: B | B10: Patient Rights | C10: =OPD!D768 -> 1
A11: C | B11: Inputs | C11: =OPD!D769 -> 1
A12: D | B12: Support Services | C12: =OPD!D770 -> 1
A13: E | B13: Clinical Services | C13: =OPD!D771 -> 1
A14: F | B14: Infection Control | C14: =OPD!D772 -> 1
A15: G | B15: Quality Management | C15: =OPD!D773 -> 1
A16: H | B16: Outcome | C16: =OPD!D774 -> 1
B18: Major Gaps Observed
A19: 1
A20: 2
A21: 3
A22: 4
A23: 5
B24: Strengths / Good Practices
A25: 1
A26: 2
A27: 3
A28: 4
A29: 5
B30: Recommendations/ Opportunites for Improvement
A31: 1
A32: 2
A33: 3
A34: 4
A35: 5
B36: Signature of Assessors
B37: Date
A40: Checklist for OPD
A41: Reference No. | B41: Measurable Element | C41: Checkpoint | D41: Compliance | E41: Assessment Method | F41: Means of Verification | G41: Remarks | H41: Obtained | I41: Maximum
B42: Area of Concern - A Service Provision | H42: =H43+H72+H79+H84+H111 -> 94 | I42: =I43+I72+I79+I84+I111 -> 94
A43: Standard A1 | B43: Facility Provides Curative Services | H43: =SUM(D44:D68) -> 48 | I43: =COUNT(D44:D68)*2 -> 48
...

Sheet IPD
A1: National Quality Assurance Standards for District Hospitals
A2: Checklist for Indoor Patient Department | H2: 3
A3: Assessment Summary
A4: Name of the Hospital | F4: Date of Assessment
A5: Names of Assessors | F5: Names of Assessees
A6: Type of Assessment (Internal/External) | F6: Action plan Submission Date
A7: Indoor Patient Department Score Card
A8: Area of Concern wise Score | D8: IPD Score
A9: A | B9: Service Provision | C9: =IPD!D648 -> 1 | D9: =D656 -> 1
A10: B | B10: Patient Rights | C10: =IPD!D649 -> 1
A11: C | B11: Inputs | C11: =IPD!D650 -> 1
A12: D | B12: Support Services | C12: =IPD!D651 -> 1
A13: E | B13: Clinical Services | C13: =IPD!D652 -> 1
A14: F | B14: Infection Control | C14: =IPD!D653 -> 1
A15: G | B15: Quality Management | C15: =IPD!D654 -> 1
A16: H | B16: Outcome | C16: =IPD!D655 -> 1
B18: Major Gaps Observed
A19: 1
A20: 2
A21: 3
A22: 4
A23: 5
B24: Strengths / Good Practices
A25: 1
A26: 2
A27: 3
A28: 4
A29: 5
B30: Recommendations/ Opportunites for Improvement
A31: 1
A32: 2
A33: 3
A34: 4
A35: 5
B36: Signature of Assessors
B37: Date
A41: Checklist for IPD
A42: Reference No/ | B42: ME Statement | C42: Checkpoints | D42: Compliance | E42: Assessment Method | F42: Means of verification | G42: Remarks
B43: Area of Concern - A Service Provision | H43: =H44+H75+H95 -> 36 | I43: =I44+I75+I95 -> 36
A44: Standard A1 | B44: The facility provides Curative Services | H44: =SUM(D45:D62) -> 22 | I44: =COUNT(D45:D62)*2 -> 22
...

Sheet Ped Ward
A1: National Quality Assurance Standards for District Hospitals
A2: Checklist for Paediatrics Ward | H2: 4
A3: Assessment Summary
A4: Name of the Hospital | F4: Date of Assessment
A5: Names of Assessors | F5: Names of Assessees
A6: Type of Assessment (Internal/External) | F6: Action plan Submission Date
A7: Paediatrics Ward Score Card
A8: Area of Concern wise Score | D8: Paediatrics Ward Score
A9: A | B9: Service Provision | C9: ='Ped Ward'!D670 -> 1 | D9: =D678 -> 1
A10: B | B10: Patient Rights | C10: ='Ped Ward'!D671 -> 1
A11: C | B11: Inputs | C11: ='Ped Ward'!D672 -> 1
A12: D | B12: Support Services | C12: ='Ped Ward'!D673 -> 1
A13: E | B13: Clinical Services | C13: ='Ped Ward'!D674 -> 1
A14: F | B14: Infection Control | C14: ='Ped Ward'!D675 -> 1
A15: G | B15: Quality Management | C15: ='Ped Ward'!D676 -> 1
A16: H | B16: Outcome | C16: ='Ped Ward'!D678 -> 1
B18: Major Gaps Observed
A19: 1
A20: 2
A21: 3
A22: 4
A23: 5
B24: Strengths / Good Practices
A25: 1
A26: 2
A27: 3
A28: 4
A29: 5
B30: Recommendations/ Opportunites for Improvement
A31: 1
A32: 2
A33: 3
A34: 4
A35: 5
B36: Signature of Assessors
B37: Date
A41: Checklist for Paediatrics Ward
A42: Reference No. | B42: Measurable Element | C42: Checkpoint | D42: Compliance Full/Partial/No | E42: Assessment Method | F42: Means of verification | G42: Remarks
B43: Area of Concern - A Service Provision | H43: =H44+H64+H81 -> 34 | I43: =I44+I64+I81 -> 34
A44: Standard A1 | B44: The facility provides Curative Services | H44: =SUM(D48:D59) -> 6 | I44: =COUNT(D48:D59)*2 -> 6
...

Sheet NRC 
A1: National Quality Assurance Standards for District Hospitals
A2: Checklist for Nutrition Rehabilitation Center (NRC) | H2: 5
A3: Assessment Summary
A4: Name of the Hospital | F4: Date of Assessment
A5: Names of Assessors | F5: Names of Assessees
A6: Type of Assessment (Internal/External) | F6: Action plan Submission Date
A7: NRC Score Card
A8: Area of Concern wise Score | D8: NRC Score
A9: A | B9: Service Provision | C9: ='NRC '!D688 -> 1 | D9: =D696 -> 1
A10: B | B10: Patient Rights | C10: ='NRC '!D689 -> 1
A11: C | B11: Inputs | C11: ='NRC '!D690 -> 1
A12: D | B12: Support Services | C12: ='NRC '!D691 -> 1
A13: E | B13: Clinical Services | C13: ='NRC '!D692 -> 1
A14: F | B14: Infection Control | C14: ='NRC '!D693 -> 1
A15: G | B15: Quality Management | C15: ='NRC '!D694 -> 1
A16: H | B16: Outcome | C16: ='NRC '!D695 -> 1
B18: Major Gaps Observed
A19: 1
A20: 2
A21: 3
A22: 4
A23: 5
B24: Strengths / Good Practices
A25: 1
A26: 2
A27: 3
A28: 4
A29: 5
B30: Recommendations/ Opportunites for Improvement
A31: 1
A32: 2
A33: 3
A34: 4
A35: 5
B36: Signature of Assessors
B37: Date
A41: Checklist for NRC
A42: Reference no. | B42: Measurable Elements | C42: Checkpoint | D42: Compliance/Full/ Partial/No | E42: Assessment Method | F42: Means of verification | G42: Remarks
B43: Area of Concern - A Service Provision | H43: =H44+H63+H78+H94 -> 28 | I43: =I44+I63+I78+I94 -> 28
A44: Standard A1 | B44: Facility Provides Curative Services | H44: =SUM(D48:D58) -> 4 | I44: =COUNT(D48:D58)*2 -> 4
...

Sheet OT
A1: National Quality Assurance Standards for District Hospitals
A2: Checklist for Operation Theatre | H2: 6
A3: Assessment Summary
A4: Name of the Hospital | F4: Date of Assessment
A5: Names of Assessors | F5: Names of Assessees
A6: Type of Assessment (Internal/External) | F6: Action plan Submission Date
A7: Operation Theatre Score Card
A8: Area of Concern wise Score | D8: Operation Theatre Score
A9: A | B9: Service Provision | C9: =OT!D703 -> 1 | D9: =D711 -> 1
A10: B | B10: Patient Rights | C10: =OT!D704 -> 1
A11: C | B11: Inputs | C11: =OT!D705 -> 1
A12: D | B12: Support Services | C12: =OT!D706 -> 1
A13: E | B13: Clinical Services | C13: =OT!D707 -> 1
A14: F | B14: Infection Control | C14: =OT!D708 -> 1
A15: G | B15: Quality Management | C15: =OT!D709 -> 1
A16: H | B16: Outcome | C16: =OT!D710 -> 1
B18: Major Gaps Observed
A19: 1
A20: 2
A21: 3
A22: 4
A23: 5
B24: Strengths / Good Practices
A25: 1
A26: 2
A27: 3
A28: 4
A29: 5
B30: Recommendations/ Opportunites for Improvement
A31: 1
A32: 2
A33: 3
A34: 4
A35: 5
B36: Signature of Assessors
B37: Date
A41: Checklist for Operation Theatre
A42: Reference No. | B42: ME Statement | C42: Checkpoint | D42: Compliance | E42: Assessment Method | F42: Means of Verification | G42: Remarks
B43: Area of Concern - A Service Provision | H43: =H44+H63+H71+H75 -> 26 | I43: =I44+I63+I71+I75 -> 26
A44: Standard A1 | B44: Facility Provides Curative Services | H44: =SUM(D46:D60) -> 16 | I44: =COUNT(D46:D60)*2 -> 16
...

Sheet Blood Bank
A1: National Quality Assurance Standards for District Hospitals
A2: Checklist for Blood Bank | H2: 7
A3: Assessment Summary
A4: Name of the Hospital | F4: Date of Assessment
A5: Names of Assessors | F5: Names of Assessees
A6: Type of Assessment (Internal/External) | F6: Action plan Submission Date
A7: Blood Bank Score Card
A8: Area of Concern wise Score | D8: Blood Bank Score
A9: A | B9: Service Provision | C9: ='Blood Bank'!D634 -> 1 | D9: =D642 -> 1
A10: B | B10: Patient Rights | C10: ='Blood Bank'!D635 -> 1
A11: C | B11: Inputs | C11: ='Blood Bank'!D636 -> 1
A12: D | B12: Support Services | C12: ='Blood Bank'!D637 -> 1
A13: E | B13: Clinical Services | C13: ='Blood Bank'!D638 -> 1
A14: F | B14: Infection Control | C14: ='Blood Bank'!D639 -> 1
A15: G | B15: Quality Management | C15: ='Blood Bank'!D640 -> 1
A16: H | B16: Outcome | C16: ='Blood Bank'!D641 -> 1
B18: Major Gaps Observed
A19: 1
A20: 2
A21: 3
A22: 4
A23: 5
B24: Strengths / Good Practices
A25: 1
A26: 2
A27: 3
A28: 4
A29: 5
B30: Recommendations/ Opportunites for Improvement
A31: 1
A32: 2
A33: 3
A34: 4
A35: 5
B36: Signature of Assessors
B37: Date
A41: Checklist for Blood Bank
A42: Reference No. | B42: ME Statement | C42: Checkpoint | D42: Compliance | E42: Assessment Method | F42: Means of Verification | G42: Remarks
A43: . | B43: Area of Concern - A Service Provision | H43: =H44+H66+H72+H76+H96 -> 16 | I43: =I44+I66+I72+I76+I96 -> 16
A44: Standard A1. | B44: Facility Provides Curative Services | H44: =SUM(D58:D65) -> 10 | I44: =COUNT(D58:D65)*2 -> 10
...

Sheet Lab
A1: National Quality Assurance Standards for District Hospitals
A2: Checklist for Laboratory | H2: 8
A3: Assessment Summary
A4: Name of the Hospital | F4: Date of Assessment
A5: Names of Assessors | F5: Names of Assessees
A6: Type of Assessment (Internal/External) | F6: Action plan Submission Date
A7: Laboratory Score Card
A8: Area of Concern wise Score | D8: Laboratory Score
A9: A | B9: Service Provision | C9: =Lab!D649 -> 1 | D9: =D657 -> 1
A10: B | B10: Patient Rights | C10: =Lab!D650 -> 1
A11: C | B11: Inputs | C11: =Lab!D651 -> 1
A12: D | B12: Support Services | C12: =Lab!D652 -> 1
A13: E | B13: Clinical Services | C13: =Lab!D653 -> 1
A14: F | B14: Infection Control | C14: =Lab!D654 -> 1
A15: G | B15: Quality Management | C15: =Lab!D655 -> 1
A16: H | B16: Outcome | C16: =Lab!D656 -> 1
B18: Major Gaps Observed
A19: 1
A20: 2
A21: 3
A22: 4
A23: 5
B24: Strengths / Good Practices
A25: 1
A26: 2
A27: 3
A28: 4
A29: 5
B30: Recommendations/ Opportunites for Improvement
A31: 1
A32: 2
A33: 3
A34: 4
A35: 5
B36: Signature of Assessors
B37: Date
A41: Checklist for Laboratory
A42: Standard | B42: ME Statement | C42: Checkpoint | D42: Compliance Full/Partial/No | E42: Audit Method | F42: Means of Verification | G42: Remarks
B43: Area of Concern - A Service Provision | H43: =H70+H82+H103 -> 30 | I43: =I70+I82+I103 -> 30
A44: Standard A1 | B44: Facility Provides Curative Services
...

Sheet Radiology 
A1: National Quality Assurance Standards for District Hospitals
A2: Checklist for Radiology Department | H2: 9
A3: Assessment Summary
A4: Name of the Hospital | F4: Date of Assessment
A5: Names of Assessors | F5: Names of Assessees
A6: Type of Assessment (Internal/External) | F6: Action plan Submission Date
A7: Radiology Score Card
A8: Area of Concern wise Score | D8: Radiology Score
A9: A | B9: Service Provision | C9: ='Radiology '!D608 -> 1 | D9: =D616 -> 1
A10: B | B10: Patient Rights | C10: ='Radiology '!D609 -> 1
A11: C | B11: Inputs | C11: ='Radiology '!D610 -> 1
A12: D | B12: Support Services | C12: ='Radiology '!D611 -> 1
A13: E | B13: Clinical Services | C13: ='Radiology '!D612 -> 1
A14: F | B14: Infection Control | C14: ='Radiology '!D613 -> 1
A15: G | B15: Quality Management | C15: ='Radiology '!D614 -> 1
A16: H | B16: Outcome | C16: ='Radiology '!D615 -> 1
B18: Major Gaps Observed
A19: 1
A20: 2
A21: 3
A22: 4
A23: 5
B24: Strengths / Good Practices
A25: 1
A26: 2
A27: 3
A28: 4
A29: 5
B30: Recommendations/ Opportunites for Improvement
A31: 1
A32: 2
A33: 3
A34: 4
A35: 5
B36: Signature of Assessors
B37: Date
A41: Reference no. | B41: ME Statement | C41: Checkpoint | D41: Compliance Full/Partial/No | E41: Assessment Method | F41: Means of Verification | G41: Remarks
B42: Area of Concern - A Service Provision | H42: =H43+H63+H69 -> 14 | I42: =I43+I63+I69 -> 14
A43: Standard A1 | B43: Facility Provides Curative Services | H43: =SUM(D57:D58) -> 4 | I43: =COUNT(D57:D58)*2 -> 4
A44: ME A1.1 | B44: The facility provides General Medicine services
...

Sheet Pharmacy
A1: National Quality Assurance Standards for District Hospitals
A2: Checklist for Pharmacy Department | H2: 10
A3: Assessment Summary
A4: Name of the Hospital | F4: Date of Assessment
A5: Names of Assessors | F5: Names of Assessees
A6: Type of Assessment (Internal/External) | F6: Action plan Submission Date
A7: Pharmacy Score Card
A8: Area of Concern wise Score | D8: Pharmacy Score
A9: A | B9: Service Provision | C9: =Pharmacy!D595 -> 1 | D9: =D603 -> 1
A10: B | B10: Patient Rights | C10: =Pharmacy!D596 -> 1
A11: C | B11: Inputs | C11: =Pharmacy!D597 -> 1
A12: D | B12: Support Services | C12: =Pharmacy!D598 -> 1
A13: E | B13: Clinical Services | C13: =Pharmacy!D599 -> 1
A14: F | B14: Infection Control | C14: =Pharmacy!D600 -> 1
A15: G | B15: Quality Management | C15: =Pharmacy!D601 -> 1
A16: H | B16: Outcome | C16: =Pharmacy!D602 -> 1
B18: Major Gaps Observed
A19: 1
A20: 2
A21: 3
A22: 4
A23: 5
B24: Strengths / Good Practices
A25: 1
A26: 2
A27: 3
A28: 4
A29: 5
B30: Recommendations/ Opportunites for Improvement
A31: 1
A32: 2
A33: 3
A34: 4
A35: 5
B36: Signature of Assessors
B37: Date
A41: Reference No | B41: ME Statement | C41: Checkpoint | D41: Compliance Full/Partial/No | E41: Assessment Method | F41: Means of Verification | G41: Remarks
B42: Area of Concern - A Service Provision | H42: =H43+H74+H87 -> 24 | I42: =I43+I74+I87 -> 24
A43: Standard A1 | B43: Facility Provides Curative Services | H43: =SUM(D57:D59) -> 6 | I43: =COUNT(D57:D59)*2 -> 6
A44: ME A1.1 | B44: The facility provides General Medicine services
...

Sheet Auxillary services
A1: National Quality Assurance Standards for District Hospitals
A2: Checklist for Auxillary Services | H2: 11
A3: Assessment Summary
A4: Name of the Hospital | F4: Date of Assessment
A5: Names of Assessors | F5: Names of Assessees
A6: Type of Assessment (Internal/External) | F6: Action plan Submission Date
A7: Auxillary Services Score Card
B8: Area of Concern wise Score | D8: Auxillary Services Score
A9: A | B9: Service Provision | C9: ='Auxillary services'!D627 -> 1 | D9: =D635 -> 1
A10: B | B10: Patient Rights | C10: ='Auxillary services'!D628 -> 1
A11: C | B11: Inputs | C11: ='Auxillary services'!D629 -> 1
A12: D | B12: Support Services | C12: ='Auxillary services'!D630 -> 1
A13: E | B13: Clinical Services | C13: ='Auxillary services'!D631 -> 1
A14: F | B14: Infection Control | C14: ='Auxillary services'!D632 -> 1
A15: G | B15: Quality Management | C15: ='Auxillary services'!D633 -> 1
A16: H | B16: Outcome | C16: ='Auxillary services'!D634 -> 1
B18: Major Gaps Observed
A19: 1
A20: 2
A21: 3
A22: 4
A23: 5
B24: Strengths / Good Practices
A25: 1
A26: 2
A27: 3
A28: 4
A29: 5
B30: Recommendations/ Opportunites for Improvement
A31: 1
A32: 2
A33: 3
A34: 4
A35: 5
B36: Signature of Assessors
B37: Date
A41: Reference no | B41: ME Statement | C41: Checkpoint | D41: Compliance | E41: Assessment Method | F41: Means of Verification | G41: Remarks
B42: Area of Concern - A Service Provision | H42: =H84 -> 14 | I42: =I84 -> 14
A43: Standard A1 | B43: Facility Provides Curative Services
A44: ME A1.1 | B44: The facility provides General Medicine services
...

Sheet Mortuary 
A1: National Quality Assurance Standards for District Hospitals
A2: Checklist for Mortuary | H2: 12
A3: Assessment Summary
A4: Name of the Hospital | F4: Date of Assessment
A5: Names of Assessors | F5: Names of Assessees
A6: Type of Assessment (Internal/External) | F6: Action plan Submission Date
A7: Mortuary Score Card
A8: Area of Concern wise Score | D8: Mortuary Score
A9: A | B9: Service Provision | C9: ='Mortuary '!D568 -> 1 | D9: =D576 -> 1
A10: B | B10: Patient Rights | C10: ='Mortuary '!D569 -> 1
A11: C | B11: Inputs | C11: ='Mortuary '!D570 -> 1
A12: D | B12: Support Services | C12: ='Mortuary '!D571 -> 1
A13: E | B13: Clinical Services | C13: ='Mortuary '!D572 -> 1
A14: F | B14: Infection Control | C14: ='Mortuary '!D573 -> 1
A15: G | B15: Quality Management | C15: ='Mortuary '!D574 -> 1
A16: H | B16: Outcome | C16: ='Mortuary '!D575 -> 1
B18: Major Gaps Observed
A19: 1
A20: 2
A21: 3 | B21: nhsrc123
A22: 4
A23: 5
B24: Strengths / Good Practices
A25: 1
A26: 2
A27: 3
A28: 4
A29: 5
B30: Recommendations/ Opportunites for Improvement
A31: 1
A32: 2
A33: 3
A34: 4
A35: 5
B36: Signature of Assessors
B37: Date
A38: Checklist for Mortuary
A41: Reference No. | B41: ME Statement | C41: Checkpoints | D41: Compliance | E41: Assessment method | F41: Audit Support | G41: Remark
B42: Area of Concern - A Service Provision | H42: =H43+H84 -> 10 | I42: =I43+I84 -> 10
A43: Standard A1 | B43: The facility provides Curative Services | H43: =SUM(D57) -> 2 | I43: =COUNT(D57)*2 -> 2
...

Sheet Admin
A1: National Quality Assurance Standards for District Hospitals
A2: Checklist for Administration | H2: 13
A3: Assessment Summary
A4: Name of the Hospital | F4: Date of Assessment
A5: Names of Assessors | F5: Names of Assessees
A6: Type of Assessment (Internal/External) | F6: Action plan Submission Date
A7: Administration Score Card
B8: Area of Concern wise Score | D8: Administration Score
A9: A | B9: Service Provision | C9: =Admin!D870 -> 1 | D9: =D878 -> 1
A10: B | B10: Patient Rights | C10: =Admin!D871 -> 1
A11: C | B11: Inputs | C11: =Admin!D872 -> 1
A12: D | B12: Support Services | C12: =Admin!D873 -> 1
A13: E | B13: Clinical Services | C13: =Admin!D874 -> 1
A14: F | B14: Infection Control | C14: =Admin!D875 -> 1
A15: G | B15: Quality Management | C15: =Admin!D876 -> 1
A16: H | B16: Outcome | C16: =Admin!D877 -> 1
B18: Major Gaps Observed
A19: 1
A20: 2
A21: 3
A22: 4
A23: 5
B24: Strengths / Good Practices
A25: 1
A26: 2
A27: 3
A28: 4
A29: 5
B30: Recommendations/ Opportunites for Improvement
A31: 1
A32: 2
A33: 3
A34: 4
A35: 5
B36: Signature of Assessors
B37: Date
A40: Checklist for General Administration
A41: Reference No. | B41: ME Statement | C41: Checkpoint | D41: Compliance | E41: Assessment Method | F41: Means of Verification | G41: Remarks
B42: Area of Concern - A Service Provision | H42: =H43+H63+H71+H77+H92+H101 -> 56 | I42: =I43+I63+I71+I77+I92+I101 -> 56
A43: Standard A1 | B43: Facility Provides Curative Services | H43: =SUM(D59:D62) -> 8 | I43: =COUNT(D59:D62)*2 -> 8
...
